BEGIN:VCALENDAR
VERSION:2.0
PRODID:-//hacksw/handcal//NONSGML v1.0//EN
BEGIN:VEVENT
DTSTAMP:20250904T170000Z
DTSTART:20250904T170000Z
DTEND:20250904T200000Z
LOCATION:Aggerhof, Wahlscheider Str., Lohmar, 53797 , Deutschland
SUMMARY:Lokalrunde im Aggerhof
END:VEVENT
END:VCALENDAR
