BEGIN:VCALENDAR
VERSION:2.0
PRODID:-//hacksw/handcal//NONSGML v1.0//EN
BEGIN:VEVENT
DTSTAMP:20250706T090000Z
DTSTART:20250706T090000Z
DTEND:20250706T120000Z
LOCATION:Rathaus, Rathausstraße 4, Lohmar, 53797, Deutschland
SUMMARY:Zuhör-Tour Lohmar-Ort
END:VEVENT
END:VCALENDAR
