BEGIN:VCALENDAR
VERSION:2.0
PRODID:-//hacksw/handcal//NONSGML v1.0//EN
BEGIN:VEVENT
DTSTAMP:20250608T110000Z
DTSTART:20250608T110000Z
DTEND:20250608T133000Z
LOCATION:Gasthof Fielenbach, Birker Str. 13, Lohmar, 53797, Deutschland
SUMMARY:Zuhör-Tour Heide-Inger-Birk 
END:VEVENT
END:VCALENDAR
